BEGIN:VCALENDAR
VERSION:2.0
PRODID:-//hacksw/handcal//NONSGML v1.0//EN
BEGIN:VEVENT
SUMMARY:Interclubs
UID:c577aa87-6d9c-4044-99fb-6995bce76b21
DTSTART:20251121T190000Z
DTEND:20251121T213000Z
LOCATION:Localisation   
CATEGORIES:Sportif
STATUS:
URL;VALUE=URI:https://tuesg-badminton.sportsregions.fr/evenements/2025/11/21/interclubs-2438652
END:VEVENT
END:VCALENDAR
