BEGIN:VCALENDAR
VERSION:2.0
PRODID:-//hacksw/handcal//NONSGML v1.0//EN
BEGIN:VEVENT
SUMMARY:Interclubs
UID:249ef89a-7b34-46d9-b7f1-a89a75f550ad
DTSTART:20251124T230000Z
DTEND:20251125T230000Z
LOCATION:Localisation   
CATEGORIES:Sportif
STATUS:
URL;VALUE=URI:https://tuesg-badminton.sportsregions.fr/evenements/2025/11/25/interclubs-2438717
END:VEVENT
END:VCALENDAR
