BEGIN:VCALENDAR
VERSION:2.0
PRODID:-//hacksw/handcal//NONSGML v1.0//EN
BEGIN:VEVENT
SUMMARY:Interclubs
UID:caa18b29-a5b4-4258-a96b-9d3aa10c663f
DTSTART:20251127T230000Z
DTEND:20251128T230000Z
LOCATION:Localisation   
CATEGORIES:Sportif
STATUS:
URL;VALUE=URI:https://tuesg-badminton.sportsregions.fr/evenements/2025/11/28/interclubs-2438686
END:VEVENT
END:VCALENDAR
