BEGIN:VCALENDAR
VERSION:2.0
PRODID:-//hacksw/handcal//NONSGML v1.0//EN
BEGIN:VEVENT
SUMMARY:Interclubs
UID:9e124cdf-0bd2-4b69-862d-0684d0e30f94
DTSTART:20251201T230000Z
DTEND:20251202T230000Z
LOCATION:Localisation   
CATEGORIES:Sportif
STATUS:
URL;VALUE=URI:https://tuesg-badminton.sportsregions.fr/evenements/2025/12/02/interclubs-2438719
END:VEVENT
END:VCALENDAR
