BEGIN:VCALENDAR
VERSION:2.0
PRODID:-//hacksw/handcal//NONSGML v1.0//EN
BEGIN:VEVENT
SUMMARY:Interclubs
UID:fc0f8fa6-4037-4db9-9698-ee5903698dbb
DTSTART:20251205T190000Z
DTEND:20251205T213000Z
LOCATION:Localisation   
CATEGORIES:Sportif
STATUS:
URL;VALUE=URI:https://tuesg-badminton.sportsregions.fr/evenements/2025/12/05/interclubs-2438655
END:VEVENT
END:VCALENDAR
