BEGIN:VCALENDAR
VERSION:2.0
PRODID:-//hacksw/handcal//NONSGML v1.0//EN
BEGIN:VEVENT
SUMMARY:Interclubs
UID:7efe69bd-6a4b-4e1e-9255-53c834ee1b63
DTSTART:20251208T191500Z
DTEND:20251208T220000Z
LOCATION:Localisation   
CATEGORIES:Sportif
STATUS:
URL;VALUE=URI:https://tuesg-badminton.sportsregions.fr/evenements/2025/12/08/interclubs-2438656
END:VEVENT
END:VCALENDAR
