BEGIN:VCALENDAR
VERSION:2.0
PRODID:-//hacksw/handcal//NONSGML v1.0//EN
BEGIN:VEVENT
SUMMARY:Interclubs
UID:a0dc0035-6a10-4341-bd24-45f66adff4ec
DTSTART:20251207T230000Z
DTEND:20251208T230000Z
LOCATION:Localisation   
CATEGORIES:Sportif
STATUS:
URL;VALUE=URI:https://tuesg-badminton.sportsregions.fr/evenements/2025/12/08/interclubs-2438709
END:VEVENT
END:VCALENDAR
