BEGIN:VCALENDAR
VERSION:2.0
PRODID:-//hacksw/handcal//NONSGML v1.0//EN
BEGIN:VEVENT
SUMMARY:Interclubs
UID:0649206d-5089-41be-8e1d-481722eed9f5
DTSTART:20251215T230000Z
DTEND:20251216T230000Z
LOCATION:Localisation   
CATEGORIES:Sportif
STATUS:
URL;VALUE=URI:https://tuesg-badminton.sportsregions.fr/evenements/2025/12/16/interclubs-2438721
END:VEVENT
END:VCALENDAR
