BEGIN:VCALENDAR
VERSION:2.0
PRODID:-//hacksw/handcal//NONSGML v1.0//EN
BEGIN:VEVENT
SUMMARY:Interclubs
UID:69e6e3b8-c911-4848-b371-9f6c11e9e976
DTSTART:20260108T230000Z
DTEND:20260109T230000Z
LOCATION:Localisation   
CATEGORIES:Sportif
STATUS:
URL;VALUE=URI:https://tuesg-badminton.sportsregions.fr/evenements/2026/01/09/interclubs-2438711
END:VEVENT
END:VCALENDAR
