BEGIN:VCALENDAR
VERSION:2.0
PRODID:-//hacksw/handcal//NONSGML v1.0//EN
BEGIN:VEVENT
SUMMARY:Interclubs
UID:063911b1-4d3e-4ad5-864c-92f147be79fd
DTSTART:20260113T230000Z
DTEND:20260114T230000Z
LOCATION:Localisation   
CATEGORIES:Sportif
STATUS:
URL;VALUE=URI:https://tuesg-badminton.sportsregions.fr/evenements/2026/01/14/interclubs-2438712
END:VEVENT
END:VCALENDAR
