BEGIN:VCALENDAR
VERSION:2.0
PRODID:-//hacksw/handcal//NONSGML v1.0//EN
BEGIN:VEVENT
SUMMARY:Interclubs
UID:e35af0b1-2e98-4618-a437-b7e8e6adc533
DTSTART:20260119T230000Z
DTEND:20260120T230000Z
LOCATION:Localisation   
CATEGORIES:Sportif
STATUS:
URL;VALUE=URI:https://tuesg-badminton.sportsregions.fr/evenements/2026/01/20/interclubs-2438724
END:VEVENT
END:VCALENDAR
