BEGIN:VCALENDAR
VERSION:2.0
PRODID:-//hacksw/handcal//NONSGML v1.0//EN
BEGIN:VEVENT
SUMMARY:Interclubs
UID:b905be9b-a7cc-48f6-ba32-d4b03a24ad28
DTSTART:20260122T230000Z
DTEND:20260123T230000Z
LOCATION:Localisation   
CATEGORIES:Sportif
STATUS:
URL;VALUE=URI:https://tuesg-badminton.sportsregions.fr/evenements/2026/01/23/interclubs-2438713
END:VEVENT
END:VCALENDAR
