BEGIN:VCALENDAR
VERSION:2.0
PRODID:-//hacksw/handcal//NONSGML v1.0//EN
BEGIN:VEVENT
SUMMARY:Interclubs
UID:d730aac1-0e52-4f63-9c0d-ddc52eaa3a61
DTSTART:20260129T230000Z
DTEND:20260130T230000Z
LOCATION:Localisation   
CATEGORIES:Sportif
STATUS:
URL;VALUE=URI:https://tuesg-badminton.sportsregions.fr/evenements/2026/01/30/interclubs-2438714
END:VEVENT
END:VCALENDAR
