BEGIN:VCALENDAR
VERSION:2.0
PRODID:-//hacksw/handcal//NONSGML v1.0//EN
BEGIN:VEVENT
SUMMARY:Interclubs
UID:90834971-6627-4c85-8f1c-453c6dc646e8
DTSTART:20260205T230000Z
DTEND:20260206T230000Z
LOCATION:Localisation   
CATEGORIES:Sportif
STATUS:
URL;VALUE=URI:https://tuesg-badminton.sportsregions.fr/evenements/2026/02/06/interclubs-2438685
END:VEVENT
END:VCALENDAR
