BEGIN:VCALENDAR
VERSION:2.0
PRODID:-//hacksw/handcal//NONSGML v1.0//EN
BEGIN:VEVENT
SUMMARY:Interclubs
UID:85c7e20a-0811-4eda-aa71-debce4fbf085
DTSTART:20260212T230000Z
DTEND:20260213T230000Z
LOCATION:Localisation   
CATEGORIES:Sportif
STATUS:
URL;VALUE=URI:https://tuesg-badminton.sportsregions.fr/evenements/2026/02/13/interclubs-2438682
END:VEVENT
END:VCALENDAR
