BEGIN:VCALENDAR
VERSION:2.0
PRODID:-//hacksw/handcal//NONSGML v1.0//EN
BEGIN:VEVENT
SUMMARY:Interclubs
UID:ce27889a-67e1-4382-8b64-9c17e9b0e882
DTSTART:20260216T230000Z
DTEND:20260217T230000Z
LOCATION:Localisation   
CATEGORIES:Sportif
STATUS:
URL;VALUE=URI:https://tuesg-badminton.sportsregions.fr/evenements/2026/02/17/interclubs-2438729
END:VEVENT
END:VCALENDAR
