BEGIN:VCALENDAR
VERSION:2.0
PRODID:-//hacksw/handcal//NONSGML v1.0//EN
BEGIN:VEVENT
SUMMARY:Interclubs
UID:2e225417-c3ea-42d1-823c-2e7bf0e4f8f6
DTSTART:20260309T230000Z
DTEND:20260310T230000Z
LOCATION:Localisation   
CATEGORIES:Sportif
STATUS:
URL;VALUE=URI:https://tuesg-badminton.sportsregions.fr/evenements/2026/03/10/interclubs-2438730
END:VEVENT
END:VCALENDAR
