BEGIN:VCALENDAR
VERSION:2.0
PRODID:-//hacksw/handcal//NONSGML v1.0//EN
BEGIN:VEVENT
SUMMARY:Interclubs
UID:505de7f6-f28d-4607-8a69-a44fca506764
DTSTART:20260313T210000Z
DTEND:20260313T213000Z
LOCATION:Localisation   
CATEGORIES:Sportif
STATUS:
URL;VALUE=URI:https://tuesg-badminton.sportsregions.fr/evenements/2026/03/13/interclubs-2438680
END:VEVENT
END:VCALENDAR
