BEGIN:VCALENDAR
VERSION:2.0
PRODID:-//hacksw/handcal//NONSGML v1.0//EN
BEGIN:VEVENT
SUMMARY:Interclubs
UID:f4cc8e1f-1294-43f4-b87c-3453d0f86faf
DTSTART:20260320T190000Z
DTEND:20260320T213000Z
LOCATION:Localisation   
CATEGORIES:Sportif
STATUS:
URL;VALUE=URI:https://tuesg-badminton.sportsregions.fr/evenements/2026/03/20/interclubs-2438677
END:VEVENT
END:VCALENDAR
