BEGIN:VCALENDAR
VERSION:2.0
PRODID:-//hacksw/handcal//NONSGML v1.0//EN
BEGIN:VEVENT
SUMMARY:Doubles 2
UID:6ba131e3-7f6a-4601-aa5a-a21c89b6fbad
DTSTART:20260529T220000Z
DTEND:20260531T220000Z
LOCATION:Localisation Gymnase Georges Galienne, 5 rue du Mur du parc 78240 Chambourcy
CATEGORIES:Sportif
STATUS:
URL;VALUE=URI:https://tuesg-badminton.sportsregions.fr/evenements/2026/05/30/doubles-2-2438640
END:VEVENT
END:VCALENDAR
