BEGIN:VCALENDAR
VERSION:2.0
PRODID:-//hacksw/handcal//NONSGML v1.0//EN
BEGIN:VEVENT
SUMMARY:Championnat Jeunes des Yvelines
UID:2d8d1def-3cf1-4378-a702-6a0b4816162e
DTSTART:20260612T220000Z
DTEND:20260614T220000Z
LOCATION:Localisation Gymnase des pyramides, 4 mail de Schenefeld 78690 Voisins le Bretonneux
CATEGORIES:Sportif
STATUS:
URL;VALUE=URI:https://tuesg-badminton.sportsregions.fr/evenements/2026/06/13/championnat-jeunes-des-yvelines-2438641
END:VEVENT
END:VCALENDAR
